BEGIN:VCALENDAR
VERSION:2.0
PRODID:icalendar-ruby
CALSCALE:GREGORIAN
METHOD:PUBLISH
BEGIN:VEVENT
DTSTAMP:20260421T063009Z
UID:104-429120@mcf.org.au
DTSTART:20261027T083000Z
DTEND:20261027T100000Z
CLASS:PUBLIC
CREATED:20260421T100633
DESCRIPTION:Our Alpha course runs for eight weeks culminating with an Encou
 nter weekend.\nAlpha is a safe space to explore life\, purpose and the Chr
 istian faith\, ask questions\, and share your point of view. Alpha is free
  and everyone is welcome. \nClick on the button below for more info + to 
 sign up!
LAST-MODIFIED:20260421T100633
LOCATION:Powerhouse
SUMMARY:Alpha Course
URL;VALUE=URI:https://mcf.org.au/events/alpha-course/2026-10-27
ATTACH;FILENAME=Event-Header.jpg;FMTTYPE=image/jpeg:https://dq5pwpg1q8ru0.c
 loudfront.net/2025/08/28/05/30/17/94cfdd2d-113b-4295-84d9-9bcb2de45697/Eve
 nt-Header.jpg
END:VEVENT
END:VCALENDAR
